BEGIN:VCALENDAR
VERSION:2.0
CALSCALE:GREGORIAN
PRODID:adamgibbons/ics
METHOD:PUBLISH
X-PUBLISHED-TTL:PT1H
BEGIN:VEVENT
UID:185@botep.org
SUMMARY:Assemblea stagionale del progetto Antennine - Estate 2026
DTSTAMP:20260421T130640Z
DTSTART:20260629T190000Z
DTEND:20260629T200000Z
URL:https://botep.org/event/assemblea-stagionale-del-progetto-antennine-est
	ate-2026
GEO:44.3437;11.0799
LOCATION:Centro Civico Bortolani - 181\, Via Vedegheto\, Cà Bortolani\, Val
	samoggia\, Bologna\, Emilia-Romagna\, Italia
STATUS:CONFIRMED
CATEGORIES:Antennine,attività,Community Network,GNU/Linux,Internet,LibreMes
	h,Linux,Ninux,OpenWrt,reteappennica,software libero
END:VEVENT
BEGIN:VEVENT
UID:184@botep.org
SUMMARY:Assemblea stagionale del progetto Antennine - Autunno 2026
DTSTAMP:20260421T130640Z
DTSTART:20260928T190000Z
DTEND:20260928T200000Z
URL:https://botep.org/event/assemblea-stagionale-del-progetto-antennine-aut
	unno-2026
GEO:44.3437;11.0799
LOCATION:Centro Civico Bortolani - 181\, Via Vedegheto\, Cà Bortolani\, Val
	samoggia\, Bologna\, Emilia-Romagna\, Italia
STATUS:CONFIRMED
CATEGORIES:Antennine,attività,Community Network,GNU/Linux,Internet,LibreMes
	h,Linux,Ninux,OpenWrt,reteappennica,software libero
END:VEVENT
END:VCALENDAR
